BEGIN:VCALENDAR
VERSION:2.0
PRODID:-//hacksw/handcal//NONSGML v1.0//EN
BEGIN:VEVENT
SUMMARY:AMICALE LAIQUE ECHIROLLES vs IE - US SAULCE - 2 RM3 (U15 G)
UID:c44a1d90-54bc-4e94-994d-495568e6d862
DTSTART:20260502T160000Z
DTEND:20260502T220000Z
LOCATION:Localisation GYMNASE AUGUSTE DELAUNE  Rue Missak Manouchian 38130 Echirolles
CATEGORIES:Sportif
STATUS:
URL;VALUE=URI:https://saulcebasket.sportsregions.fr/evenements/2026/05/02/amicale-laique-echirolles-vs-ie-us-saulce-2-rm3-u15-g-2382924
END:VEVENT
END:VCALENDAR
